BEGIN:VCALENDAR
VERSION:2.0
PRODID:-//Schwaben-Slot e.V. - ECPv6.15.20//NONSGML v1.0//EN
CALSCALE:GREGORIAN
METHOD:PUBLISH
X-ORIGINAL-URL:https://schwaben-slot.com
X-WR-CALDESC:Veranstaltungen für Schwaben-Slot e.V.
REFRESH-INTERVAL;VALUE=DURATION:PT1H
X-Robots-Tag:noindex
X-PUBLISHED-TTL:PT1H
BEGIN:VTIMEZONE
TZID:UTC
BEGIN:STANDARD
TZOFFSETFROM:+0000
TZOFFSETTO:+0000
TZNAME:UTC
DTSTART:20250101T000000
END:STANDARD
END:VTIMEZONE
BEGIN:VEVENT
DTSTART;TZID=UTC:20260424T180000
DTEND;TZID=UTC:20260424T235900
DTSTAMP:20260423T080532
CREATED:20250118T232556Z
LAST-MODIFIED:20251212T210715Z
UID:796-1777053600-1777075140@schwaben-slot.com
SUMMARY:2. Lauf Carrera Digital 132
DESCRIPTION:2. Lauf der Carrera Digital 132  Klasse\nTechnische Abnahme ca. 19:30 Uhr\nRennstart ca. 20:00 Uhr
URL:https://schwaben-slot.com/event/2-lauf-carrera-digital-132/
LOCATION:Schwaben-Slot e.V.
CATEGORIES:Carrera Digital 1:32,Renntermine Schwaben-Slot e.V.
END:VEVENT
BEGIN:VEVENT
DTSTART;TZID=UTC:20260508T190000
DTEND;TZID=UTC:20260509T200000
DTSTAMP:20260423T080532
CREATED:20241224T012357Z
LAST-MODIFIED:20251212T211340Z
UID:784-1778266800-1778356800@schwaben-slot.com
SUMMARY:Gruppe 245 – 4. Lauf 2026
DESCRIPTION:4. Lauf der Gruppe 245 Süd 2026\nFreitag Training – Samstag Rennen\nInfos unter der offiziellen Seite der Gruppe 245 Süd 
URL:https://schwaben-slot.com/event/gruppe-245-4-lauf-2025/
LOCATION:Schwaben-Slot e.V.
CATEGORIES:Gruppe 245 Süd,Renntermine Schwaben-Slot e.V.
END:VEVENT
BEGIN:VEVENT
DTSTART;TZID=UTC:20260515T180000
DTEND;TZID=UTC:20260515T235900
DTSTAMP:20260423T080532
CREATED:20241224T011640Z
LAST-MODIFIED:20251212T210445Z
UID:777-1778868000-1778889540@schwaben-slot.com
SUMMARY:3. + 4. Lauf NSR GT
DESCRIPTION:3. und 4. Lauf der NSR-GT Klasse\nTechnische Abnahme ca. 19:30 Uhr\nRennstart ca. 20:00 Uhr
URL:https://schwaben-slot.com/event/3-4-lauf-nsr-gt/
LOCATION:Schwaben-Slot e.V.
CATEGORIES:NSR-GT,Renntermine Schwaben-Slot e.V.
END:VEVENT
BEGIN:VEVENT
DTSTART;TZID=UTC:20260523T170000
DTEND;TZID=UTC:20260523T235900
DTSTAMP:20260423T080532
CREATED:20241224T002910Z
LAST-MODIFIED:20251212T212946Z
UID:734-1779555600-1779580740@schwaben-slot.com
SUMMARY:2. Langer Samstag
DESCRIPTION:Ab 2026 gibt es den Langen Samstag!\n2. Lauf der Gestellte Klasse – Rennstart hier um ca. 18:00 Uhr – Autos werden vom Club gestellt.\n3. und 4. Lauf der RevoSlot GT Klasse – Rennstart hier um ca. 20:00 Uhr
URL:https://schwaben-slot.com/event/3-4-lauf-gestellte-klasse/
LOCATION:Schwaben-Slot e.V.
CATEGORIES:Gestellte Klasse,Renntermine Schwaben-Slot e.V.
END:VEVENT
BEGIN:VEVENT
DTSTART;TZID=UTC:20260612T180000
DTEND;TZID=UTC:20260612T235900
DTSTAMP:20260423T080532
CREATED:20241224T010506Z
LAST-MODIFIED:20251212T210205Z
UID:768-1781287200-1781308740@schwaben-slot.com
SUMMARY:5. + 6. Lauf Slot.it Gruppe C
DESCRIPTION:5. und 6. Lauf der Slot.it Gruppe C \nTechnische Abnahme ca. 19:30 Uhr\nRennstart ca. 20:00 Uhr
URL:https://schwaben-slot.com/event/5-6-lauf-slot-it-gruppe-c/
LOCATION:Schwaben-Slot e.V.
CATEGORIES:Renntermine Schwaben-Slot e.V.,Slot.it Gruppe C
END:VEVENT
BEGIN:VEVENT
DTSTART;TZID=UTC:20260619T190000
DTEND;TZID=UTC:20260620T200000
DTSTAMP:20260423T080532
CREATED:20241224T012543Z
LAST-MODIFIED:20251212T211622Z
UID:786-1781895600-1781985600@schwaben-slot.com
SUMMARY:Gruppe 245 – 5. Lauf 2026
DESCRIPTION:5. Lauf der Gruppe 245 Süd 2026\nFreitag Training – Samstag Rennen\nInfos unter der offiziellen Seite der Gruppe 245 Süd 
URL:https://schwaben-slot.com/event/gruppe-245-5-lauf-2025/
LOCATION:slot-connection e.V.
CATEGORIES:Gruppe 245 Süd,Renntermine Schwaben-Slot e.V.
END:VEVENT
BEGIN:VEVENT
DTSTART;TZID=UTC:20260626T180000
DTEND;TZID=UTC:20260626T235900
DTSTAMP:20260423T080532
CREATED:20241224T010830Z
LAST-MODIFIED:20251212T211545Z
UID:770-1782496800-1782518340@schwaben-slot.com
SUMMARY:3. Lauf SMQ-Cup
DESCRIPTION:3. Lauf SMQ-Cup 2026\nInfos unter der offiziellen Seite zum SMQ-Cup
URL:https://schwaben-slot.com/event/3-lauf-smq-cup-2/
LOCATION:beim Sven oder Rudi dahoam
CATEGORIES:Renntermine Schwaben-Slot e.V.,SMQ Cup
END:VEVENT
BEGIN:VEVENT
DTSTART;TZID=UTC:20260703T180000
DTEND;TZID=UTC:20260703T235900
DTSTAMP:20260423T080532
CREATED:20241224T011816Z
LAST-MODIFIED:20251212T210027Z
UID:779-1783101600-1783123140@schwaben-slot.com
SUMMARY:5. + 6. Lauf NSR GT
DESCRIPTION:5. und 6. Lauf der NSR-GT Klasse\nTechnische Abnahme ca. 19:30 Uhr\nRennstart ca. 20:00 Uhr
URL:https://schwaben-slot.com/event/5-6-lauf-nsr-gt/
LOCATION:Schwaben-Slot e.V.
CATEGORIES:NSR-GT,Renntermine Schwaben-Slot e.V.
END:VEVENT
BEGIN:VEVENT
DTSTART;TZID=UTC:20260710T180000
DTEND;TZID=UTC:20260710T235900
DTSTAMP:20260423T080532
CREATED:20241224T005739Z
LAST-MODIFIED:20251212T205948Z
UID:762-1783706400-1783727940@schwaben-slot.com
SUMMARY:5. + 6. Lauf BRM
DESCRIPTION:5. und 6. Lauf der BRM Klasse\nTechnische Abnahme ca. 19:30 Uhr\nRennstart ca. 20:00 Uhr
URL:https://schwaben-slot.com/event/5-6-lauf-brm/
LOCATION:Schwaben-Slot e.V.
CATEGORIES:BRM,Renntermine Schwaben-Slot e.V.
END:VEVENT
BEGIN:VEVENT
DTSTART;TZID=UTC:20260717T190000
DTEND;TZID=UTC:20260718T200000
DTSTAMP:20260423T080532
CREATED:20240607T180011Z
LAST-MODIFIED:20251212T211250Z
UID:618-1784314800-1784404800@schwaben-slot.com
SUMMARY:Gruppe 245 - 6. Lauf - Finale 2026
DESCRIPTION:6. Lauf – Finale der Gruppe 245 Süd 2026\nFreitag Training – Samstag Rennen\nInfos unter der offiziellen Seite der Gruppe 245 Süd 
URL:https://schwaben-slot.com/event/gruppe-245-6-lauf-finale-2024/
LOCATION:Hot Slot Munich
CATEGORIES:Gruppe 245 Süd,Renntermine Schwaben-Slot e.V.
END:VEVENT
BEGIN:VEVENT
DTSTART;TZID=UTC:20260724T180000
DTEND;TZID=UTC:20260724T235900
DTSTAMP:20260423T080532
CREATED:20240602T222322Z
LAST-MODIFIED:20251212T205912Z
UID:349-1784916000-1784937540@schwaben-slot.com
SUMMARY:5. + 6. Lauf MiniZ Analog
DESCRIPTION:5. und 6. Lauf der MiniZ Analog Klasse\nTechnische Abnahme ca. 19:30 Uhr\nRennstart ca. 20:00 Uhr
URL:https://schwaben-slot.com/event/miniz-analog/
LOCATION:Schwaben-Slot e.V.
CATEGORIES:MiniZ Analog,Renntermine Schwaben-Slot e.V.
END:VEVENT
BEGIN:VEVENT
DTSTART;TZID=UTC:20260731T180000
DTEND;TZID=UTC:20260731T235900
DTSTAMP:20260423T080532
CREATED:20250118T233216Z
LAST-MODIFIED:20251212T210102Z
UID:800-1785520800-1785542340@schwaben-slot.com
SUMMARY:3. Lauf Carrera Digital 132
DESCRIPTION:3. Lauf der Carrera Digital 132  Klasse\nTechnische Abnahme ca. 19:30 Uhr\nRennstart ca. 20:00 Uhr
URL:https://schwaben-slot.com/event/1-lauf-carrera-digital-132/
LOCATION:Schwaben-Slot e.V.
CATEGORIES:Carrera Digital 1:32,Renntermine Schwaben-Slot e.V.
END:VEVENT
BEGIN:VEVENT
DTSTART;TZID=UTC:20260912T170000
DTEND;TZID=UTC:20260912T235900
DTSTAMP:20260423T080532
CREATED:20240607T174752Z
LAST-MODIFIED:20251212T213127Z
UID:609-1789232400-1789257540@schwaben-slot.com
SUMMARY:3. Langer Samstag
DESCRIPTION:Ab 2026 gibt es den Langen Samstag!\n3. Lauf der Gestellte Klasse – Rennstart hier um ca. 18:00 Uhr – Autos werden vom Club gestellt.\n5. und 6. Lauf der RevoSlot GT Klasse – Rennstart hier um ca. 20:00 Uhr
URL:https://schwaben-slot.com/event/5-6-lauf-gestellte-klasse/
LOCATION:Schwaben-Slot e.V.
CATEGORIES:Gestellte Klasse,Renntermine Schwaben-Slot e.V.
END:VEVENT
BEGIN:VEVENT
DTSTART;TZID=UTC:20260918T180000
DTEND;TZID=UTC:20260918T235900
DTSTAMP:20260423T080532
CREATED:20240607T182934Z
LAST-MODIFIED:20251212T211516Z
UID:635-1789754400-1789775940@schwaben-slot.com
SUMMARY:4. Lauf SMQ-Cup
DESCRIPTION:4. Lauf SMQ-Cup 2026\nInfos unter der offiziellen Seite zum SMQ-Cup
URL:https://schwaben-slot.com/event/4-lauf-smq-cup/
LOCATION:beim Sven oder Rudi dahoam
CATEGORIES:Renntermine Schwaben-Slot e.V.,SMQ Cup
END:VEVENT
BEGIN:VEVENT
DTSTART;TZID=UTC:20260926T083000
DTEND;TZID=UTC:20260926T210000
DTSTAMP:20260423T080532
CREATED:20240607T181800Z
LAST-MODIFIED:20251212T212051Z
UID:626-1790411400-1790456400@schwaben-slot.com
SUMMARY:BRM Langstrecke Augsburg
DESCRIPTION:BRM Team Langstreckenlauf 2026\nInfos folgen noch!
URL:https://schwaben-slot.com/event/brm-langstrecke-augsburg/
LOCATION:Schwaben-Slot e.V.
CATEGORIES:BRM,Renntermine Schwaben-Slot e.V.
END:VEVENT
BEGIN:VEVENT
DTSTART;TZID=UTC:20261002T180000
DTEND;TZID=UTC:20261002T235900
DTSTAMP:20260423T080532
CREATED:20240607T182548Z
LAST-MODIFIED:20251212T205703Z
UID:631-1790964000-1790985540@schwaben-slot.com
SUMMARY:7. + 8. Lauf Slot.it Gruppe C - Finale
DESCRIPTION:7. und 8. Lauf – Finale – der Slot.it Gruppe C\nTechnische Abnahme ca. 19:30 Uhr\nRennstart ca. 20:00 Uhr
URL:https://schwaben-slot.com/event/7-8-lauf-slot-it-gruppe-c/
LOCATION:Schwaben-Slot e.V.
CATEGORIES:Renntermine Schwaben-Slot e.V.,Slot.it Gruppe C
END:VEVENT
BEGIN:VEVENT
DTSTART;TZID=UTC:20261009T180000
DTEND;TZID=UTC:20261009T235900
DTSTAMP:20260423T080532
CREATED:20240607T183036Z
LAST-MODIFIED:20251212T205633Z
UID:637-1791568800-1791590340@schwaben-slot.com
SUMMARY:7. + 8. Lauf MiniZ Analog - Finale
DESCRIPTION:7. und 8. Lauf – Finale – der MiniZ Analog Klasse\nTechnische Abnahme ca. 19:30 Uhr\nRennstart ca. 20:00 Uhr
URL:https://schwaben-slot.com/event/7-8-lauf-miniz-analog/
LOCATION:Schwaben-Slot e.V.
CATEGORIES:MiniZ Analog,Renntermine Schwaben-Slot e.V.
END:VEVENT
BEGIN:VEVENT
DTSTART;TZID=UTC:20261016T180000
DTEND;TZID=UTC:20261016T235900
DTSTAMP:20260423T080532
CREATED:20240607T183513Z
LAST-MODIFIED:20251212T211703Z
UID:643-1792173600-1792195140@schwaben-slot.com
SUMMARY:5. Lauf SMQ-Cup
DESCRIPTION:5. Lauf SMQ-Cup 2026\nInfos unter der offiziellen Seite zum SMQ-Cup
URL:https://schwaben-slot.com/event/5-lauf-smq-cup-finale/
LOCATION:Schwaben-Slot e.V.
CATEGORIES:Renntermine Schwaben-Slot e.V.,SMQ Cup
END:VEVENT
BEGIN:VEVENT
DTSTART;TZID=UTC:20261030T180000
DTEND;TZID=UTC:20261030T235900
DTSTAMP:20260423T080532
CREATED:20240607T183213Z
LAST-MODIFIED:20251212T205753Z
UID:639-1793383200-1793404740@schwaben-slot.com
SUMMARY:4. Lauf Carrera Digital 132 - Finale
DESCRIPTION:4. Lauf der Carrera Digital 132  Klasse – Finale\nTechnische Abnahme ca. 19:30 Uhr\nRennstart ca. 20:00 Uhr
URL:https://schwaben-slot.com/event/9-10-lauf-carrera-digital-132-finale/
LOCATION:Schwaben-Slot e.V.
CATEGORIES:Carrera Digital 1:32,Renntermine Schwaben-Slot e.V.
END:VEVENT
BEGIN:VEVENT
DTSTART;TZID=UTC:20261106T180000
DTEND;TZID=UTC:20261106T235900
DTSTAMP:20260423T080532
CREATED:20240607T182726Z
LAST-MODIFIED:20251212T205550Z
UID:633-1793988000-1794009540@schwaben-slot.com
SUMMARY:7. + 8. Lauf NSR GT - Finale
DESCRIPTION:7. und 8. Lauf – Finale – der NSR-GT Klasse\nTechnische Abnahme ca. 19:30 Uhr\nRennstart ca. 20:00 Uhr
URL:https://schwaben-slot.com/event/9-10-lauf-nsr-gt-finale/
LOCATION:Schwaben-Slot e.V.
CATEGORIES:NSR-GT,Renntermine Schwaben-Slot e.V.
END:VEVENT
BEGIN:VEVENT
DTSTART;TZID=UTC:20261114T170000
DTEND;TZID=UTC:20261114T235900
DTSTAMP:20260423T080532
CREATED:20240607T181910Z
LAST-MODIFIED:20251212T213232Z
UID:628-1794675600-1794700740@schwaben-slot.com
SUMMARY:4. Langer Samstag - Finale
DESCRIPTION:Ab 2026 gibt es den Langen Samstag!\n4. Lauf der Gestellte Klasse – Rennstart hier um ca. 18:00 Uhr – Autos werden vom Club gestellt.\n7. und 8. Lauf der RevoSlot GT Klasse – Rennstart hier um ca. 20:00 Uhr
URL:https://schwaben-slot.com/event/7-8-lauf-gestellte-klasse/
LOCATION:Schwaben-Slot e.V.
CATEGORIES:Gestellte Klasse,Renntermine Schwaben-Slot e.V.
END:VEVENT
BEGIN:VEVENT
DTSTART;TZID=UTC:20261127T180000
DTEND;TZID=UTC:20261127T235900
DTSTAMP:20260423T080532
CREATED:20240607T175111Z
LAST-MODIFIED:20251212T205504Z
UID:611-1795802400-1795823940@schwaben-slot.com
SUMMARY:7. + 8. Lauf BRM - Finale
DESCRIPTION:7. und 8. Lauf – Finale -der BRM Klasse\nTechnische Abnahme ca. 19:30 Uhr\nRennstart ca. 20:00 Uhr
URL:https://schwaben-slot.com/event/7-8-lauf-brm/
LOCATION:Schwaben-Slot e.V.
CATEGORIES:BRM,Renntermine Schwaben-Slot e.V.
END:VEVENT
BEGIN:VEVENT
DTSTART;TZID=UTC:20261204T180000
DTEND;TZID=UTC:20261204T235900
DTSTAMP:20260423T080532
CREATED:20241224T011011Z
LAST-MODIFIED:20251212T210841Z
UID:772-1796407200-1796428740@schwaben-slot.com
SUMMARY:6. Lauf SMQ-Cup - Finale
DESCRIPTION:6. Lauf – Finale – SMQ-Cup 2026\nInfos unter der offiziellen Seite zum SMQ-Cup
URL:https://schwaben-slot.com/event/6-lauf-smq-cup-finale/
LOCATION:Hot Slot Munich
CATEGORIES:Renntermine Schwaben-Slot e.V.,SMQ Cup
END:VEVENT
END:VCALENDAR